Workbook
Name _TFH6: #REF!
Name as: #REF!
Name AT4DEP: #REF!
Name AT4DEP6: #REF!
Name AT4FH: #REF!
Name AT4FH6: #REF!
Name AT4PB: #REF!
Name AT7DEP: #REF!
Name AT7DEP6: #REF!
Name AT7FH: #REF!
Name AT7FH6: #REF!
Name AT7PB: #REF!
Name CR7DEP: #REF!
Name CR7DEP6: #REF!
Name CR7FH: #REF!
Name CR7FH6: #REF!
Name CR7PB: #REF!
Name EM3DEP: #REF!
Name EM3DEP6: #REF!
Name EM3FH: #REF!
Name EM3FH6: #REF!
Name EM3PB: #REF!
Name EM4DEP: #REF!
Name EM4DEP6: #REF!
Name EM4FH: #REF!
Name EM4FH6: #REF!
Name EM4PB: #REF!
Name EM9DEP: #REF!
Name EM9DEP6: #REF!
Name EM9FH: #REF!
Name EM9FH6: #REF!
Name EM9PB: #REF!
Name NEWDEP: #REF!
Name NEWDEP6: #REF!
Name NEWFH: #REF!
Name NEWFH6: #REF!
Name NEWPB: #REF!
Name sa: #REF!
Name sad: #REF!
Name sda: #REF!
Name SF3FH: #REF!
Name SF3FH6: #REF!
Name sfa: #REF!

Sheet Summary FCST
B1: Chicago (ORD) to XXX
B2: XXX
C3: QSI Points | T3: Pax PDEWs | X3: Forecast
G4: Raw | I4: AL | K4: 0.4 | L4: 0.75 | P4: QSI | Q4: Annual Market Size By Point of Origin | W4: Growth/ | X4: Total Mkt | Z4: POO Demand | AB4: Daily | AC4: OB Pax | AD4: % | AF4: Pax PDEWs | AI4: O&D | AJ4: O&D Adj | AK4: O&D | AM4: Main Leg | AN4: O&D | AO4: Onboard | AP4: Onboard | AQ4: Up-Down
C5: EQP | D5: TS | E5: ETP | F5: NSP | G5: QSI | H5: TOD | I5: PREF | J5: PQSI | K5: RP | L5: AP | M5: MPE | N5: RF | O5: QSI | P5: Share | Q5: Other | R5: =$B$2 -> XXX | S5: Total | T5: Other | U5: =$B$2 -> XXX | V5: Total | W5: Stim. | X5: Size | Y5: Share | Z5: Other | AA5: =$B$2 -> XXX | AB5: Demand | AC5: PDEW | AD5: Total | AF5: Other | AG5: =$B$2 -> XXX | AI5: Fare | AJ5: Fare | AK5: Fare | AL5: Miles | AM5: Prorate | AN5: Revenue | AO5: Revenue | AP5: RPMs | AQ5: Revenue
A6: Local | AJ6: adj
A7: ORDXXX | B7: =IF(LEFT(A7,3)=$B$2,RIGHT(A7,3),LEFT(A7,3)) -> ORD | C7: 0.7 | D7: 12 | E7: 1 | F7: 1 | G7: =C7*D7*E7*F7*7 -> 58.8 | H7: 1 | I7: 1 | J7: =G7*H7*I7 -> 58.8 | K7: 0.62 | L7: 1 | M7: =EXP((K7*$K$4)+(L7*$L$4)) -> 2.7128507 | N7: 1 | O7: =G7*M7*N7 -> 159.51562 | P7: 0.3537 | Q7: 19470 | R7: 12067 | S7: =Q7+R7 -> 31537 | T7: =Q7/365/2 -> 26.671233 | U7: =R7/365/2 -> 16.530137 | V7: =S7/365/2 -> 43.20137 | W7: 1.15 | X7: =V7*(W7) -> 49.681575 | Y7: =P7 -> 0.3537 | Z7: =T7*($W7)*$Y7 -> 10.848657 | AA7: =U7*($W7)*$Y7 -> 6.7237159 | AB7: =Z7+AA7 -> 17.572373 | AC7: =AB7*($AC$33/$AB$33) -> 16.172454 | AD7: =AC7/$AC$33 -> 0.55996751 | AF7: =$AC7*(T7/$V7) -> 9.9843894 | AG7: =$AC7*(U7/$V7) -> 6.1880651 | AI7: 156.57899 | AJ7: 1 | AK7: =AI7*AJ7 -> 156.57899 | AL7: 794 | AM7: 1 | AN7: =(AC7*AJ7*AI7) -> 2532.2666 | AO7: =AM7*AN7 -> 2532.2666 | AP7: =AC7*$D$28 -> 12840.929 | AQ7: =AN7-AO7 -> 0
A9: On-Line Flow @ ORD | AO9: Prorated
A10: BOSXXX | B10: BOS | C10: 0.7 | D10: 1 | E10: 0.8 | F10: 0.5 | G10: =C10*D10*E10*F10*7 -> 1.96 | H10: 1 | I10: 1 | J10: =G10*H10*I10 -> 1.96 | K10: 0.62 | L10: 1 | M10: =EXP((K10*$K$4)+(L10*$L$4)) -> 2.7128507 | N10: 1 | O10: =G10*M10*N10 -> 5.3171874 | P10: 0.0374 | Q10: 11917 | R10: 9879 | S10: =Q10+R10 -> 21796 | T10: =Q10/365/2 -> 16.324658 | U10: =R10/365/2 -> 13.532877 | V10: =S10/365/2 -> 29.857534 | W10: 1.02 | X10: =V10*(W10) -> 30.454685 | Y10: =P10 -> 0.0374 | Z10: =T10*($W10)*$Y10 -> 0.62275304 | AA10: =U10*($W10)*$Y10 -> 0.51625218 | AB10: =Z10+AA10 -> 1.1390052 | AC10: =AB10*($AC$33/$AB$33) -> 1.0482654 | AD10: =AC10/$AC$33 -> 0.036295946 | AF10: =$AC10*(T10/$V10) -> 0.57314086 | AG10: =$AC10*(U10/$V10) -> 0.47512449 | AI10: 153.7798 | AJ10: 1 | AK10: =AI10*AJ10 -> 153.7798 | AL10: 867 | AM10: =SQRT($AL$7)/(SQRT($AL$7)+SQRT(AL10)) -> 0.48900733 | AN10: =(AC10*AJ10*AI10) -> 161.20204 | AO10: =AM10*AN10 -> 78.828978 | AP10: =AC10*$D$28 -> 832.32269 | AQ10: =AN10-AO10 -> 82.373059
A11: BUFXXX | B11: BUF | C11: 0.7 | D11: 1 | E11: 0.8 | F11: 0.5 | G11: =C11*D11*E11*F11*7 -> 1.96 | H11: 1 | I11: 1 | J11: =G11*H11*I11 -> 1.96 | K11: 0.62 | L11: 1 | M11: =EXP((K11*$K$4)+(L11*$L$4)) -> 2.7128507 | N11: 1 | O11: =G11*M11*N11 -> 5.3171874 | P11: 0.0305 | Q11: 4147 | R11: 2980 | S11: =Q11+R11 -> 7127 | T11: =Q11/365/2 -> 5.6808219 | U11: =R11/365/2 -> 4.0821918 | V11: =S11/365/2 -> 9.7630137 | W11: 1.02 | X11: =V11*(W11) -> 9.958274 | Y11: =P11 -> 0.0305 | Z11: =T11*($W11)*$Y11 -> 0.17673037 | AA11: =U11*($W11)*$Y11 -> 0.12699699 | AB11: =Z11+AA11 -> 0.30372736 | AC11: =AB11*($AC$33/$AB$33) -> 0.27953065 | AD11: =AC11/$AC$33 -> 0.0096786842 | AF11: =$AC11*(T11/$V11) -> 0.16265099 | AG11: =$AC11*(U11/$V11) -> 0.11687966 | AI11: 153.4879 | AJ11: 1 | AK11: =AI11*AJ11 -> 153.4879 | AL11: 473 | AM11: =SQRT($AL$7)/(SQRT($AL$7)+SQRT(AL11)) -> 0.56438899 | AN11: =(AC11*AJ11*AI11) -> 42.904572 | AO11: =AM11*AN11 -> 24.214868 | AP11: =AC11*$D$28 -> 221.94733 | AQ11: =AN11-AO11 -> 18.689704
A12: CLEXXX | B12: CLE | C12: 0.7 | D12: 1 | E12: 0.8 | F12: 0.5 | G12: =C12*D12*E12*F12*7 -> 1.96 | H12: 1 | I12: 1 | J12: =G12*H12*I12 -> 1.96 | K12: 0.62 | L12: 1 | M12: =EXP((K12*$K$4)+(L12*$L$4)) -> 2.7128507 | N12: 1 | O12: =G12*M12*N12 -> 5.3171874 | P12: 0.04915 | Q12: 4740 | R12: 3831 | S12: =Q12+R12 -> 8571 | T12: =Q12/365/2 -> 6.4931507 | U12: =R12/365/2 -> 5.2479452 | V12: =S12/365/2 -> 11.741096 | W12: 1.02 | X12: =V12*(W12) -> 11.975918 | Y12: =P12 -> 0.04915 | Z12: =T12*($W12)*$Y12 -> 0.32552112 | AA12: =U12*($W12)*$Y12 -> 0.26309524 | AB12: =Z12+AA12 -> 0.58861636 | AC12: =AB12*($AC$33/$AB$33) -> 0.54172371 | AD12: =AC12/$AC$33 -> 0.018757059 | AF12: =$AC12*(T12/$V12) -> 0.29958819 | AG12: =$AC12*(U12/$V12) -> 0.24213552 | AI12: 193.88746 | AJ12: 1 | AK12: =AI12*AJ12 -> 193.88746 | AL12: 316 | AM12: =SQRT($AL$7)/(SQRT($AL$7)+SQRT(AL12)) -> 0.61317325 | AN12: =(AC12*AJ12*AI12) -> 105.03344 | AO12: =AM12*AN12 -> 64.403694 | AP12: =AC12*$D$28 -> 430.12863 | AQ12: =AN12-AO12 -> 40.629742
A13: CMHXXX | B13: CMH | C13: 0.7 | D13: 1 | E13: 0.8 | F13: 0.5 | G13: =C13*D13*E13*F13*7 -> 1.96 | H13: 1 | I13: 1 | J13: =G13*H13*I13 -> 1.96 | K13: 0.62 | L13: 1 | M13: =EXP((K13*$K$4)+(L13*$L$4)) -> 2.7128507 | N13: 1 | O13: =G13*M13*N13 -> 5.3171874 | P13: 0.0455 | Q13: 6692 | R13: 4223 | S13: =Q13+R13 -> 10915 | T13: =Q13/365/2 -> 9.1671233 | U13: =R13/365/2 -> 5.7849315 | V13: =S13/365/2 -> 14.952055 | W13: 1.02 | X13: =V13*(W13) -> 15.251096 | Y13: =P13 -> 0.0455 | Z13: =T13*($W13)*$Y13 -> 0.42544619 | AA13: =U13*($W13)*$Y13 -> 0.26847867 | AB13: =Z13+AA13 -> 0.69392486 | AC13: =AB13*($AC$33/$AB$33) -> 0.63864272 | AD13: =AC13/$AC$33 -> 0.022112857 | AF13: =$AC13*(T13/$V13) -> 0.39155264 | AG13: =$AC13*(U13/$V13) -> 0.24709008 | AI13: 168.0878 | AJ13: 1 | AK13: =AI13*AJ13 -> 168.0878 | AL13: 296 | AM13: =SQRT($AL$7)/(SQRT($AL$7)+SQRT(AL13)) -> 0.62089811 | AN13: =(AC13*AJ13*AI13) -> 107.34805 | AO13: =AM13*AN13 -> 66.652203 | AP13: =AC13*$D$28 -> 507.08232 | AQ13: =AN13-AO13 -> 40.695849
A14: DCAXXX | B14: DCA | C14: 0.7 | D14: 1 | E14: 0.8 | F14: 0.5 | G14: =C14*D14*E14*F14*7 -> 1.96 | H14: 1 | I14: 1 | J14: =G14*H14*I14 -> 1.96 | K14: 0.62 | L14: 1 | M14: =EXP((K14*$K$4)+(L14*$L$4)) -> 2.7128507 | N14: 1 | O14: =G14*M14*N14 -> 5.3171874 | P14: 0.02125 | Q14: 17897 | R14: 19286 | S14: =Q14+R14 -> 37183 | T14: =Q14/365/2 -> 24.516438 | U14: =R14/365/2 -> 26.419178 | V14: =S14/365/2 -> 50.935616 | W14: 1.02 | X14: =V14*(W14) -> 51.954329 | Y14: =P14 -> 0.02125 | Z14: =T14*($W14)*$Y14 -> 0.5313938 | AA14: =U14*($W14)*$Y14 -> 0.57263568 | AB14: =Z14+AA14 -> 1.1040295 | AC14: =AB14*($AC$33/$AB$33) -> 1.016076 | AD14: =AC14/$AC$33 -> 0.035181397 | AF14: =$AC14*(T14/$V14) -> 0.48905984 | AG14: =$AC14*(U14/$V14) -> 0.52701615 | AI14: 163.85071 | AJ14: 1 | AK14: =AI14*AJ14 -> 163.85071 | AL14: 612 | AM14: =SQRT($AL$7)/(SQRT($AL$7)+SQRT(AL14)) -> 0.53249802 | AN14: =(AC14*AJ14*AI14) -> 166.48478 | AO14: =AM14*AN14 -> 88.652813 | AP14: =AC14*$D$28 -> 806.76434 | AQ14: =AN14-AO14 -> 77.831963
A15: DTWXXX | B15: DTW | C15: 0.7 | D15: 1 | E15: 0.8 | F15: 0.5 | G15: =C15*D15*E15*F15*7 -> 1.96 | H15: 1 | I15: 1 | J15: =G15*H15*I15 -> 1.96 | K15: 0.62 | L15: 1 | M15: =EXP((K15*$K$4)+(L15*$L$4)) -> 2.7128507 | N15: 1 | O15: =G15*M15*N15 -> 5.3171874 | P15: 0.02845 | Q15: 11469 | R15: 7572 | S15: =Q15+R15 -> 19041 | T15: =Q15/365/2 -> 15.710959 | U15: =R15/365/2 -> 10.372603 | V15: =S15/365/2 -> 26.083562 | W15: 1.02 | X15: =V15*(W15) -> 26.605233 | Y15: =P15 -> 0.02845 | Z15: =T15*($W15)*$Y15 -> 0.45591632 | AA15: =U15*($W15)*$Y15 -> 0.30100256 | AB15: =Z15+AA15 -> 0.75691888 | AC15: =AB15*($AC$33/$AB$33) -> 0.69661826 | AD15: =AC15/$AC$33 -> 0.024120247 | AF15: =$AC15*(T15/$V15) -> 0.41959534 | AG15: =$AC15*(U15/$V15) -> 0.27702292 | AI15: 154.71616 | AJ15: 1 | AK15: =AI15*AJ15 -> 154.71616 | AL15: 235 | AM15: =SQRT($AL$7)/(SQRT($AL$7)+SQRT(AL15)) -> 0.64765537 | AN15: =(AC15*AJ15*AI15) -> 107.7781 | AO15: =AM15*AN15 -> 69.803067 | AP15: =AC15*$D$28 -> 553.1149 | AQ15: =AN15-AO15 -> 37.975035
A16: EWRXXX | B16: EWR | C16: 0.7 | D16: 1 | E16: 0.8 | F16: 0.5 | G16: =C16*D16*E16*F16*7 -> 1.96 | H16: 1 | I16: 1 | J16: =G16*H16*I16 -> 1.96 | K16: 0.62 | L16: 1 | M16: =EXP((K16*$K$4)+(L16*$L$4)) -> 2.7128507 | N16: 1 | O16: =G16*M16*N16 -> 5.3171874 | P16: 0.0105 | Q16: 10580 | R16: 8978 | S16: =Q16+R16 -> 19558 | T16: =Q16/365/2 -> 14.493151 | U16: =R16/365/2 -> 12.29863 | V16: =S16/365/2 -> 26.791781 | W16: 1.02 | X16: =V16*(W16) -> 27.327616 | Y16: =P16 -> 0.0105 | Z16: =T16*($W16)*$Y16 -> 0.15522164 | AA16: =U16*($W16)*$Y16 -> 0.13171833 | AB16: =Z16+AA16 -> 0.28693997 | AC16: =AB16*($AC$33/$AB$33) -> 0.26408064 | AD16: =AC16/$AC$33 -> 0.0091437314 | AF16: =$AC16*(T16/$V16) -> 0.14285577 | AG16: =$AC16*(U16/$V16) -> 0.12122487 | AI16: 159.9844 | AJ16: 1 | AK16: =AI16*AJ16 -> 159.9844 | AL16: 719 | AM16: =SQRT($AL$7)/(SQRT($AL$7)+SQRT(AL16)) -> 0.51240022 | AN16: =(AC16*AJ16*AI16) -> 42.248784 | AO16: =AM16*AN16 -> 21.648286 | AP16: =AC16*$D$28 -> 209.68003 | AQ16: =AN16-AO16 -> 20.600498
A17: LASXXX | B17: LAS | C17: 0.7 | D17: 1 | E17: 0.8 | F17: 0.5 | G17: =C17*D17*E17*F17*7 -> 1.96 | H17: 1 | I17: 1 | J17: =G17*H17*I17 -> 1.96 | K17: 0.62 | L17: 1 | M17: =EXP((K17*$K$4)+(L17*$L$4)) -> 2.7128507 | N17: 1 | O17: =G17*M17*N17 -> 5.3171874 | P17: 0.01315 | Q17: 5713 | R17: 21527 | S17: =Q17+R17 -> 27240 | T17: =Q17/365/2 -> 7.8260274 | U17: =R17/365/2 -> 29.489041 | V17: =S17/365/2 -> 37.315068 | W17: 1.02 | X17: =V17*(W17) -> 38.06137 | Y17: =P17 -> 0.01315 | Z17: =T17*($W17)*$Y17 -> 0.10497051 | AA17: =U17*($W17)*$Y17 -> 0.39553651 | AB17: =Z17+AA17 -> 0.50050701 | AC17: =AB17*($AC$33/$AB$33) -> 0.46063368 | AD17: =AC17/$AC$33 -> 0.015949335 | AF17: =$AC17*(T17/$V17) -> 0.096607937 | AG17: =$AC17*(U17/$V17) -> 0.36402574 | AI17: 181.93308 | AJ17: 1 | AK17: =AI17*AJ17 -> 181.93308 | AL17: 1514 | AM17: =SQRT($AL$7)/(SQRT($AL$7)+SQRT(AL17)) -> 0.42001459 | AN17: =(AC17*AJ17*AI17) -> 83.804506 | AO17: =AM17*AN17 -> 35.199115 | AP17: =AC17*$D$28 -> 365.74314 | AQ17: =AN17-AO17 -> 48.60539
A18: LAXXXX | B18: LAX | C18: 0.7 | D18: 1 | E18: 0.8 | F18: 0.5 | G18: =C18*D18*E18*F18*7 -> 1.96 | H18: 1 | I18: 1 | J18: =G18*H18*I18 -> 1.96 | K18: 0.62 | L18: 1 | M18: =EXP((K18*$K$4)+(L18*$L$4)) -> 2.7128507 | N18: 1 | O18: =G18*M18*N18 -> 5.3171874 | P18: 0.0164 | Q18: 14248 | R18: 10588 | S18: =Q18+R18 -> 24836 | T18: =Q18/365/2 -> 19.517808 | U18: =R18/365/2 -> 14.50411 | V18: =S18/365/2 -> 34.021918 | W18: 1.02 | X18: =V18*(W18) -> 34.702356 | Y18: =P18 -> 0.0164 | Z18: =T18*($W18)*$Y18 -> 0.3264939 | AA18: =U18*($W18)*$Y18 -> 0.24262475 | AB18: =Z18+AA18 -> 0.56911864 | AC18: =AB18*($AC$33/$AB$33) -> 0.5237793 | AD18: =AC18/$AC$33 -> 0.018135737 | AF18: =$AC18*(T18/$V18) -> 0.30048347 | AG18: =$AC18*(U18/$V18) -> 0.22329583 | AI18: 227.87403 | AJ18: 1 | AK18: =AI18*AJ18 -> 227.87403 | AL18: 1745 | AM18: =SQRT($AL$7)/(SQRT($AL$7)+SQRT(AL18)) -> 0.40282375 | AN18: =(AC18*AJ18*AI18) -> 119.3557 | AO18: =AM18*AN18 -> 48.07931 | AP18: =AC18*$D$28 -> 415.88076 | AQ18: =AN18-AO18 -> 71.276389
A19: LGAXXX | B19: LGA | C19: 0.7 | D19: 1 | E19: 0.8 | F19: 0.5 | G19: =C19*D19*E19*F19*7 -> 1.96 | H19: 1 | I19: 1 | J19: =G19*H19*I19 -> 1.96 | K19: 0.62 | L19: 1 | M19: =EXP((K19*$K$4)+(L19*$L$4)) -> 2.7128507 | N19: 1 | O19: =G19*M19*N19 -> 5.3171874 | P19: 0.04225 | Q19: 11724 | R19: 13607 | S19: =Q19+R19 -> 25331 | T19: =Q19/365/2 -> 16.060274 | U19: =R19/365/2 -> 18.639726 | V19: =S19/365/2 -> 34.7 | W19: 1.02 | X19: =V19*(W19) -> 35.394 | Y19: =P19 -> 0.04225 | Z19: =T19*($W19)*$Y19 -> 0.69211751 | AA19: =U19*($W19)*$Y19 -> 0.80327899 | AB19: =Z19+AA19 -> 1.4953965 | AC19: =AB19*($AC$33/$AB$33) -> 1.3762644 | AD19: =AC19/$AC$33 -> 0.047652838 | AF19: =$AC19*(T19/$V19) -> 0.63697935 | AG19: =$AC19*(U19/$V19) -> 0.73928506 | AI19: 153.21957 | AJ19: 1 | AK19: =AI19*AJ19 -> 153.21957 | AL19: 733 | AM19: =SQRT($AL$7)/(SQRT($AL$7)+SQRT(AL19)) -> 0.50999089 | AN19: =(AC19*AJ19*AI19) -> 210.87064 | AO19: =AM19*AN19 -> 107.54211 | AP19: =AC19*$D$28 -> 1092.7539 | AQ19: =AN19-AO19 -> 103.32854
A20: PHLXXX | B20: PHL | C20: 0.7 | D20: 1 | E20: 0.8 | F20: 0.5 | G20: =C20*D20*E20*F20*7 -> 1.96 | H20: 1 | I20: 1 | J20: =G20*H20*I20 -> 1.96 | K20: 0.62 | L20: 1 | M20: =EXP((K20*$K$4)+(L20*$L$4)) -> 2.7128507 | N20: 1 | O20: =G20*M20*N20 -> 5.3171874 | P20: 0.0115 | Q20: 27521 | R20: 19336 | S20: =Q20+R20 -> 46857 | T20: =Q20/365/2 -> 37.7 | U20: =R20/365/2 -> 26.487671 | V20: =S20/365/2 -> 64.187671 | W20: 1.02 | X20: =V20*(W20) -> 65.471425 | Y20: =P20 -> 0.0115 | Z20: =T20*($W20)*$Y20 -> 0.442221 | AA20: =U20*($W20)*$Y20 -> 0.31070038 | AB20: =Z20+AA20 -> 0.75292138 | AC20: =AB20*($AC$33/$AB$33) -> 0.69293923 | AD20: =AC20/$AC$33 -> 0.023992861 | AF20: =$AC20*(T20/$V20) -> 0.40699107 | AG20: =$AC20*(U20/$V20) -> 0.28594816 | AI20: 109.72659 | AJ20: 1 | AK20: =AI20*AJ20 -> 109.72659 | AL20: 678 | AM20: =SQRT($AL$7)/(SQRT($AL$7)+SQRT(AL20)) -> 0.51973177 | AN20: =(AC20*AJ20*AI20) -> 76.033855 | AO20: =AM20*AN20 -> 39.51721 | AP20: =AC20*$D$28 -> 550.19375 | AQ20: =AN20-AO20 -> 36.516645
A21: PHXXXX | B21: PHX | C21: 0.7 | D21: 1 | E21: 0.8 | F21: 0.5 | G21: =C21*D21*E21*F21*7 -> 1.96 | H21: 1 | I21: 1 | J21: =G21*H21*I21 -> 1.96 | K21: 0.62 | L21: 1 | M21: =EXP((K21*$K$4)+(L21*$L$4)) -> 2.7128507 | N21: 1 | O21: =G21*M21*N21 -> 5.3171874 | P21: 0.0166 | Q21: 8221 | R21: 9942 | S21: =Q21+R21 -> 18163 | T21: =Q21/365/2 -> 11.261644 | U21: =R21/365/2 -> 13.619178 | V21: =S21/365/2 -> 24.880822 | W21: 1.02 | X21: =V21*(W21) -> 25.378438 | Y21: =P21 -> 0.0166 | Z21: =T21*($W21)*$Y21 -> 0.19068215 | AA21: =U21*($W21)*$Y21 -> 0.23059992 | AB21: =Z21+AA21 -> 0.42128208 | AC21: =AB21*($AC$33/$AB$33) -> 0.38772026 | AD21: =AC21/$AC$33 -> 0.013424725 | AF21: =$AC21*(T21/$V21) -> 0.17549129 | AG21: =$AC21*(U21/$V21) -> 0.21222897 | AI21: 179.64342 | AJ21: 1 | AK21: =AI21*AJ21 -> 179.64342 | AL21: 1439 | AM21: =SQRT($AL$7)/(SQRT($AL$7)+SQRT(AL21)) -> 0.42621518 | AN21: =(AC21*AJ21*AI21) -> 69.651395 | AO21: =AM21*AN21 -> 29.686482 | AP21: =AC21*$D$28 -> 307.84989 | AQ21: =AN21-AO21 -> 39.964914
... A24: XXXSTL | B24: STL | C24: 0.7 | D24: 1 | E24: 0.8 | F24: 0.5 | G24: =C24*D24*E24*F24*7 -> 1.96 | H24: 1 | I24: 1 | J24: =G24*H24*I24 -> 1.96 | K24: 0.62 | L24: 1 | M24: =EXP((K24*$K$4)+(L24*$L$4)) -> 2.7128507 | N24: 1 | O24: =G24*M24*N24 -> 5.3171874 | P24: 0.0293 | Q24: 16552 | R24: 9829 | S24: =Q24+R24 -> 26381 | T24: =Q24/365/2 -> 22.673973 | U24: =R24/365/2 -> 13.464384 | V24: =S24/365/2 -> 36.138356 | W24: 1.02 | X24: =V24*(W24) -> 36.861123 | Y24: =P24 -> 0.0293 | Z24: =T24*($W24)*$Y24 -> 0.67763435 | AA24: =U24*($W24)*$Y24 -> 0.40239657 | AB24: =Z24+AA24 -> 1.0800309 | AC24: =AB24*($AC$33/$AB$33) -> 0.99398929 | AD24: =AC24/$AC$33 -> 0.03441665 | AF24: =$AC24*(T24/$V24) -> 0.62365 | AG24: =$AC24*(U24/$V24) -> 0.37033929 | AI24: 140.43989 | AJ24: 1 | AK24: =AI24*AJ24 -> 140.43989 | AL24: 258 | AM24: =SQRT($AL$7)/(SQRT($AL$7)+SQRT(AL24)) -> 0.6369295 | AN24: =(AC24*AJ24*AI24) -> 139.59575 | AO24: =AM24*AN24 -> 88.91265 | AP24: =AC24*$D$28 -> 789.22749 | AQ24: =AN24-AO24 -> 50.683098
Q25: =SUM(Q10:Q24) -> 172812 | R25: =SUM(R10:R24) -> 165788 | S25: =SUM(S10:S24) -> 338600 | T25: =SUM(T10:T24) -> 236.72877 | U25: =SUM(U10:U24) -> 227.10685 | V25: =SUM(V10:V24) -> 463.83562 | X25: =SUM(X10:X24) -> 473.11233 | Y25: =AC25/X25 -> 0.021099055 | Z25: =SUM(Z10:Z24) -> 5.6686833 | AA25: =SUM(AA10:AA24) -> 5.17762 | AB25: =SUM(AB10:AB24) -> 10.846303 | AC25: =SUM(AC10:AC24) -> 9.9822229 | AF25: =SUM(AF10:AF24) -> 5.2170826 | AG25: =SUM(AG10:AG24) -> 4.7651403 | AI25: =AN25/AC25 -> 170.12457 | AK25: =AN25/AC25 -> 170.12457 | AM25: =AO25/AN25 -> 0.51233089 | AN25: =SUM(AN10:AN24) -> 1698.2214 | AO25: =SUM(AO10:AO24) -> 870.05125 | AP25: =SUM(AP10:AP24) -> 7925.885 | AQ25: =SUM(AQ10:AQ24) -> 828.17011
A28: Length of Haul | D28: 794 | Y28: Other On-Line | AB28: =(AB25/0.9)*0.1 -> 1.2051448 | AC28: =AB28*$AC$33/$AB$33 -> 1.1091359 | AF28: =$AC28*($T$7/$V$7) -> 0.6847473 | AG28: =$AC28*($U$7/$V$7) -> 0.42438858 | AI28: =AI25-50 -> 120.12457 | AJ28: 1 | AL28: Other | AM28: =AM25 -> 0.51233089 | AN28: =(AC28*AJ28*AI28) -> 133.23447 | AO28: =AM28*AN28 -> 68.260133 | AP28: =AC28*$D$28 -> 880.65389 | AQ28: =AN28-AO28 -> 64.974335
A29: Annual Operations | D29: =2*365 -> 730 | Y29: Total Online Connecting | AB29: =SUM(AB28+AB25) -> 12.051448 | AC29: =SUM(AC28+AC25) -> 11.091359 | AF29: =SUM(AF11:AF24)+AF28 -> 5.328689 | AG29: =SUM(AG11:AG24)+AG28 -> 4.7144044 | AN29: =AN28+AN25 -> 1831.4558 | AO29: =AO28+AO25 -> 938.31139 | AP29: =AC29*$D$28 -> 8806.5389 | AQ29: =AQ28+AQ25 -> 893.14444
A30: Seats/Opn | D30: 50
Y31: Interline Connecting | AB31: =$AB$7*AB35 -> 1.7572373 | AC31: =AB31*$AC$33/$AB$33 -> 1.6172454 | AF31: =AC31*($T$7/$V$7) -> 0.99843894 | AG31: =$AC31*($U$7/$V$7) -> 0.61880651 | AI31: =AI28 -> 120.12457 | AJ31: 1 | AL31: Interline | AM31: =AM28 -> 0.51233089 | AN31: =(AC31*AJ31*AI31) -> 194.27091 | AO31: =AM31*AN31 -> 99.530988 | AP31: =AC31*$D$28 -> 1284.0929 | AQ31: =AQ7 -> 0
A32: Onboard Rev/Opn | D32: =AO33 -> 3570.109
A33: Onboard RPMS/Opn | D33: =AP33 -> 22931.561 | Y33: Total Onboard | AB33: =(AB31+AB29+AB7) -> 31.381059 | AC33: =AL56 -> 28.881059 | AF33: =AF7+AF29+AF31 -> 16.311517 | AG33: =AG7+AG29+AG31 -> 11.521276 | AN33: =AN7+AN29+AN31 -> 4557.9934 | AO33: =AO7+AO29+AO31 -> 3570.109 | AP33: =AP7+AP29+AP31 -> 22931.561 | AQ33: =AQ7+AQ29+AQ31 -> 893.14444
A35: Up-Down Rev/Opn | D35: =AQ33 -> 893.14444 | Y35: Intln as a % Local | AB35: 0.1
A37: Load Factor | D37: =$AC$33/$D$30 -> 0.57762117
A38: Onboard Yield | D38: =100*(D32/D33) -> 15.568539
AF39: Spill
A41: OB Revenue/ASM | D41: =D32/(D28*D30)*100 -> 8.9927179
AL42: OB
AG43: Demand | AJ43: Dem LF | AK43: OB LF | AL43: Pax/Opn
AF44: JAN | AG44: =AB33 -> 31.381059 | AJ44: =AG44/$D$30 -> 0.62762117 | AK44: =AJ44-0.05 -> 0.57762117 | AL44: =(AK44*$D$30) -> 28.881059 | AM44: LFCF = | AN44: 0.95
AF45: FEB | AG45: =AB33 -> 31.381059 | AJ45: =AG45/$D$30 -> 0.62762117 | AK45: =AJ45-0.05 -> 0.57762117 | AL45: =(AK45*$D$30) -> 28.881059 | AM45: CV = | AN45: 0.3
AF46: MAR | AG46: =AB33 -> 31.381059 | AJ46: =AG46/$D$30 -> 0.62762117 | AK46: =AJ46-0.05 -> 0.57762117 | AL46: =(AK46*$D$30) -> 28.881059 | AM46: RECAP = | AN46: 0.1
AF47: APR | AG47: =AB33 -> 31.381059 | AJ47: =AG47/$D$30 -> 0.62762117 | AK47: =AJ47-0.05 -> 0.57762117 | AL47: =(AK47*$D$30) -> 28.881059
AF48: MAY | AG48: =AB33 -> 31.381059 | AJ48: =AG48/$D$30 -> 0.62762117 | AK48: =AJ48-0.05 -> 0.57762117 | AL48: =(AK48*$D$30) -> 28.881059
...

Sheet OA Seasonality
A1: NYC - AMS YE Sep 2006 T100
A3: Year | B3: Month | C3: Airline | D3: Opns | E3: Ttl Seats | F3: OB Pax | H3: LF | I3: Days | J3: PPDEW | K3: Months | L3: Index
A4: 2006 | B4: 1 | C4: CO | D4: 62 | E4: 14509 | F4: 10033 | H4: =F4/E4 -> 0.69150183 | I4: 62 | J4: =F4/I4 -> 161.82258 | K4: Jan | L4: =J4/$J$16 -> 0.62687315
A5: 2006 | B5: 2 | C5: CO | D5: 56 | E5: 12977 | F5: 8228 | H5: =F5/E5 -> 0.63404485 | I5: 56 | J5: =F5/I5 -> 146.92857 | K5: Feb | L5: =J5/$J$16 -> 0.56917629
A6: 2006 | B6: 3 | C6: CO | D6: 62 | E6: 14509 | F6: 11764 | H6: =F6/E6 -> 0.81080709 | I6: 62 | J6: =F6/I6 -> 189.74194 | K6: Mar | L6: =J6/$J$16 -> 0.73502798
A7: 2006 | B7: 4 | C7: CO | D7: 117 | E7: 24009 | F7: 17926 | H7: =F7/E7 -> 0.74663668 | I7: 60 | J7: =F7/I7 -> 298.76667 | K7: Apr | L7: =J7/$J$16 -> 1.1573712
A8: 2006 | B8: 5 | C8: CO | D8: 123 | E8: 25122 | F8: 19879 | H8: =F8/E8 -> 0.79129846 | I8: 62 | J8: =F8/I8 -> 320.62903 | K8: May | L8: =J8/$J$16 -> 1.2420623
A9: 2006 | B9: 6 | C9: CO | D9: 120 | E9: 24537 | F9: 19596 | H9: =F9/E9 -> 0.79863064 | I9: 60 | J9: =F9/I9 -> 326.6 | K9: Jun | L9: =J9/$J$16 -> 1.2651928
A10: 2006 | B10: 7 | C10: CO | D10: 124 | E10: 25266 | F10: 20942 | H10: =F10/E10 -> 0.82886092 | I10: 62 | J10: =F10/I10 -> 337.77419 | K10: Jul | L10: =J10/$J$16 -> 1.3084798
A11: 2006 | B11: 8 | C11: CO | D11: 124 | E11: 25308 | F11: 19852 | H11: =F11/E11 -> 0.78441599 | I11: 62 | J11: =F11/I11 -> 320.19355 | K11: Aug | L11: =J11/$J$16 -> 1.2403753
A12: 2006 | B12: 9 | C12: CO | D12: 120 | E12: 24582 | F12: 18494 | H12: =F12/E12 -> 0.75233911 | I12: 60 | J12: =F12/I12 -> 308.23333 | K12: Sep | L12: =J12/$J$16 -> 1.1940435
A13: 2005 | B13: 10 | C13: CO | D13: 122 | E13: 25008 | F13: 16855 | H13: =F13/E13 -> 0.67398433 | I13: 62 | J13: =F13/I13 -> 271.85484 | K13: Oct | L13: =J13/$J$16 -> 1.0531194
A14: 2005 | B14: 11 | C14: CO | D14: 70 | E14: 15757 | F14: 13230 | H14: =F14/E14 -> 0.83962683 | I14: 60 | J14: =F14/I14 -> 220.5 | K14: Nov | L14: =J14/$J$16 -> 0.85417949
A15: 2005 | B15: 12 | C15: CO | D15: 62 | E15: 14509 | F15: 11645 | H15: =F15/E15 -> 0.80260528 | I15: 62 | J15: =F15/I15 -> 187.82258 | K15: Dec | L15: =J15/$J$16 -> 0.72759273
A16: Total | D16: =SUM(D4:D15) -> 1162 | E16: =SUM(E4:E15) -> 246093 | F16: =SUM(F4:F15) -> 188444 | H16: =F16/E16 -> 0.76574303 | I16: =SUM(I4:I15) -> 730 | J16: =F16/I16 -> 258.14247
A19: 2006 | B19: 1 | C19: DL | D19: 62 | E19: 12490 | F19: 8314 | H19: =F19/E19 -> 0.66565252 | I19: 62 | J19: =F19/I19 -> 134.09677 | K19: Jan | L19: =J19/$J$31 -> 0.88967232
A20: 2006 | B20: 2 | C20: DL | D20: 53 | E20: 10503 | F20: 6645 | H20: =F20/E20 -> 0.63267638 | I20: 56 | J20: =F20/I20 -> 118.66071 | K20: Feb | L20: =J20/$J$31 -> 0.78726094
A21: 2006 | B21: 3 | C21: DL | D21: 62 | E21: 12332 | F21: 10007 | H21: =F21/E21 -> 0.8114661 | I21: 62 | J21: =F21/I21 -> 161.40323 | K21: Mar | L21: =J21/$J$31 -> 1.0708385
A22: 2006 | B22: 4 | C22: DL | D22: 60 | E22: 12010 | F22: 8940 | H22: =F22/E22 -> 0.74437968 | I22: 60 | J22: =F22/I22 -> 149 | K22: Apr | L22: =J22/$J$31 -> 0.98854858
A23: 2006 | B23: 5 | C23: DL | D23: 62 | E23: 12697 | F23: 9381 | H23: =F23/E23 -> 0.73883595 | I23: 62 | J23: =F23/I23 -> 151.30645 | K23: May | L23: =J23/$J$31 -> 1.0038509
A24: 2006 | B24: 6 | C24: DL | D24: 60 | E24: 12518 | F24: 9363 | H24: =F24/E24 -> 0.74796293 | I24: 60 | J24: =F24/I24 -> 156.05 | K24: Jun | L24: =J24/$J$31 -> 1.0353222
A25: 2006 | B25: 7 | C25: DL | D25: 62 | E25: 12959 | F25: 10121 | H25: =F25/E25 -> 0.78100162 | I25: 62 | J25: =F25/I25 -> 163.24194 | K25: Jul | L25: =J25/$J$31 -> 1.0830375
A26: 2006 | B26: 8 | C26: DL | D26: 62 | E26: 12953 | F26: 8902 | H26: =F26/E26 -> 0.68725392 | I26: 62 | J26: =F26/I26 -> 143.58065 | K26: Aug | L26: =J26/$J$31 -> 0.95259357
A27: 2006 | B27: 9 | C27: DL | D27: 60 | E27: 12535 | F27: 9574 | H27: =F27/E27 -> 0.76378141 | I27: 60 | J27: =F27/I27 -> 159.56667 | K27: Sep | L27: =J27/$J$31 -> 1.0586537
A28: 2005 | B28: 10 | C28: DL | D28: 62 | E28: 12542 | F28: 9815 | H28: =F28/E28 -> 0.78257056 | I28: 62 | J28: =F28/I28 -> 158.30645 | K28: Oct | L28: =J28/$J$31 -> 1.0502927
A29: 2005 | B29: 11 | C29: DL | D29: 59 | E29: 11737 | F29: 9141 | H29: =F29/E29 -> 0.77881912 | I29: 60 | J29: =F29/I29 -> 152.35 | K29: Nov | L29: =J29/$J$31 -> 1.0107743
A30: 2005 | B30: 12 | C30: DL | D30: 62 | E30: 12512 | F30: 9827 | H30: =F30/E30 -> 0.78540601 | I30: 62 | J30: =F30/I30 -> 158.5 | K30: Dec | L30: =J30/$J$31 -> 1.0515768
A31: Total | D31: =SUM(D19:D30) -> 726 | E31: =SUM(E19:E30) -> 147788 | F31: =SUM(F19:F30) -> 110030 | H31: =F31/E31 -> 0.74451241 | I31: =SUM(I19:I30) -> 730 | J31: =F31/I31 -> 150.72603
E32: =SUM(E22:E28) -> 88214 | F32: =SUM(F22:F28) -> 66096 | H32: =F32/E32 -> 0.74926882
A34: Year | B34: Month | C34: Airline | D34: Opns | E34: Ttl Seats | F34: OB Pax | H34: LF | I34: Days | J34: PPDEW | K34: Months | L34: Index
A35: 2006 | B35: 1 | C35: CO / DL | D35: =D4+D19 -> 124 | E35: =E4+E19 -> 26999 | F35: =F4+F19 -> 18347 | H35: =F35/E35 -> 0.67954369 | I35: 62 | J35: =F35/I35 -> 295.91935 | K35: Jan | L35: =J35/$J$47 -> 0.72375191
A36: 2006 | B36: 2 | C36: CO / DL | D36: =D5+D20 -> 109 | E36: =E5+E20 -> 23480 | F36: =F5+F20 -> 14873 | H36: =F36/E36 -> 0.63343271 | I36: 56 | J36: =F36/I36 -> 265.58929 | K36: Feb | L36: =J36/$J$47 -> 0.64957142
A37: 2006 | B37: 3 | C37: CO / DL | D37: =D6+D21 -> 124 | E37: =E6+E21 -> 26841 | F37: =F6+F21 -> 21771 | H37: =F37/E37 -> 0.81110987 | I37: 62 | J37: =F37/I37 -> 351.14516 | K37: Mar | L37: =J37/$J$47 -> 0.85882177
A38: 2006 | B38: 4 | C38: CO / DL | D38: =D7+D22 -> 177 | E38: =E7+E22 -> 36019 | F38: =F7+F22 -> 26866 | H38: =F38/E38 -> 0.74588412 | I38: 60 | J38: =F38/I38 -> 447.76667 | K38: Apr | L38: =J38/$J$47 -> 1.0951361
A39: 2006 | B39: 5 | C39: CO / DL | D39: =D8+D23 -> 185 | E39: =E8+E23 -> 37819 | F39: =F8+F23 -> 29260 | H39: =F39/E39 -> 0.77368518 | I39: 62 | J39: =F39/I39 -> 471.93548 | K39: May | L39: =J39/$J$47 -> 1.1542476
A40: 2006 | B40: 6 | C40: CO / DL | D40: =D9+D24 -> 180 | E40: =E9+E24 -> 37055 | F40: =F9+F24 -> 28959 | H40: =F40/E40 -> 0.78151397 | I40: 60 | J40: =F40/I40 -> 482.65 | K40: Jun | L40: =J40/$J$47 -> 1.1804529
A41: 2006 | B41: 7 | C41: CO / DL | D41: =D10+D25 -> 186 | E41: =E10+E25 -> 38225 | F41: =F10+F25 -> 31063 | H41: =F41/E41 -> 0.81263571 | I41: 62 | J41: =F41/I41 -> 501.01613 | K41: Jul | L41: =J41/$J$47 -> 1.2253723
A42: 2006 | B42: 8 | C42: CO / DL | D42: =D11+D26 -> 186 | E42: =E11+E26 -> 38261 | F42: =F11+F26 -> 28754 | H42: =F42/E42 -> 0.75152244 | I42: 62 | J42: =F42/I42 -> 463.77419 | K42: Aug | L42: =J42/$J$47 -> 1.1342869
A43: 2006 | B43: 9 | C43: CO / DL | D43: =D12+D27 -> 180 | E43: =E12+E27 -> 37117 | F43: =F12+F27 -> 28068 | H43: =F43/E43 -> 0.75620336 | I43: 60 | J43: =F43/I43 -> 467.8 | K43: Sep | L43: =J43/$J$47 -> 1.1441332
A44: 2005 | B44: 10 | C44: CO / DL | D44: =D13+D28 -> 184 | E44: =E13+E28 -> 37550 | F44: =F13+F28 -> 26670 | H44: =F44/E44 -> 0.710253 | I44: 62 | J44: =F44/I44 -> 430.16129 | K44: Oct | L44: =J44/$J$47 -> 1.0520774
...

Sheet MILES 
A1: Origin | B1: Dest | C1: Mileage
A2: JFK | B2: ABQ | C2: 1825
A3: JFK | B3: ATL | C3: 759
A4: JFK | B4: AUS | C4: 1519
A5: JFK | B5: BDA | C5: 761
A6: JFK | B6: BHM | C6: 865
A7: JFK | B7: BNA | C7: 765
A8: JFK | B8: BOS | C8: 186
A9: JFK | B9: BTR | C9: 1197
A10: JFK | B10: BWI | C10: 183
A11: JFK | B11: CCS | C11: 2109
A12: JFK | B12: CID | C12: 935
A13: JFK | B13: CLE | C13: 424
... A77: JFK | B77: AMS | C77: 3643

Sheet MIRS PROXY
A1: Non-Directional Market | C1: MIRS Service Code Interline Flag | D1: Ttl O&D Passengers | E1: Ttl O&D Revenue | F1: Avg Fare
A2: BRUJFK | B2: =MID(A2,4,3) -> JFK | C2: ALOCAL | D2: 64780 | E2: 28961040 | F2: =E2/D2 -> 447.06761
A3: ABIBRU | B3: =MID(A3,1,3) -> ABI | C3: BONLINE | D3: 9 | E3: 7203 | F3: =E3/D3 -> 800.33333
A4: ABQBRU | B4: =MID(A4,1,3) -> ABQ | C4: BONLINE | D4: 20 | E4: 9008 | F4: =E4/D4 -> 450.4
A5: ACTBRU | B5: =MID(A5,1,3) -> ACT | C5: BONLINE | D5: 7 | E5: 3472 | F5: =E5/D5 -> 496
A6: AGUBRU | B6: =MID(A6,1,3) -> AGU | C6: BONLINE | D6: 1 | E6: 509 | F6: =E6/D6 -> 509
A7: AMABRU | B7: =MID(A7,1,3) -> AMA | C7: BONLINE | D7: 17 | E7: 11957 | F7: =E7/D7 -> 703.35294
A8: ANCBRU | B8: =MID(A8,1,3) -> ANC | C8: BONLINE | D8: 2 | E8: 1464 | F8: =E8/D8 -> 732
A9: ANUBRU | B9: =MID(A9,1,3) -> ANU | C9: BONLINE | D9: 7 | E9: 2167 | F9: =E9/D9 -> 309.57143
A10: ATLBRU | B10: =MID(A10,1,3) -> ATL | C10: BONLINE | D10: 4 | E10: 1311 | F10: =E10/D10 -> 327.75
A11: AUABRU | B11: =MID(A11,1,3) -> AUA | C11: BONLINE | D11: 24 | E11: 13122 | F11: =E11/D11 -> 546.75
A12: AUSBRU | B12: =MID(A12,1,3) -> AUS | C12: BONLINE | D12: 62 | E12: 46315 | F12: =E12/D12 -> 747.01613
A13: AXABRU | B13: =MID(A13,1,3) -> AXA | C13: BONLINE | D13: 2 | E13: 1167 | F13: =E13/D13 -> 583.5
A14: AZOBRU | B14: =MID(A14,1,3) -> AZO | C14: BONLINE | D14: 1 | E14: 2008 | F14: =E14/D14 -> 2008
... A22: BOSBRU | B22: =MID(A22,1,3) -> BOS | C22: BONLINE | D22: 2191 | E22: 1126231 | F22: =E22/D22 -> 514.02602
A23: BRUBTR | B23: =MID(A23,4,3) -> BTR | C23: BONLINE | D23: 12 | E23: 5334 | F23: =E23/D23 -> 444.5
A24: BRUBUR | B24: =MID(A24,4,3) -> BUR | C24: BONLINE | D24: 1 | E24: 476 | F24: =E24/D24 -> 476
A25: BRUBWI | B25: =MID(A25,4,3) -> BWI | C25: BONLINE | D25: 396 | E25: 181383 | F25: =E25/D25 -> 458.03788
A26: BRUBZE | B26: =MID(A26,4,3) -> BZE | C26: BONLINE | D26: 23 | E26: 11010 | F26: =E26/D26 -> 478.69565
A27: BRUCCS | B27: =MID(A27,4,3) -> CCS | C27: BONLINE | D27: 146 | E27: 87403 | F27: =E27/D27 -> 598.65068
A28: BRUCDG | B28: =MID(A28,4,3) -> CDG | C28: BONLINE | D28: 3 | E28: 8162 | F28: =E28/D28 -> 2720.6667
A29: BRUCID | B29: =MID(A29,4,3) -> CID | C29: BONLINE | D29: 3 | E29: 1661 | F29: =E29/D29 -> 553.66667
A30: BRUCLE | B30: =MID(A30,4,3) -> CLE | C30: BONLINE | D30: 311 | E30: 163386 | F30: =E30/D30 -> 525.35691
A31: BRUCLL | B31: =MID(A31,4,3) -> CLL | C31: BONLINE | D31: 7 | E31: 2321 | F31: =E31/D31 -> 331.57143
A32: BRUCLO | B32: =MID(A32,4,3) -> CLO | C32: BONLINE | D32: 4 | E32: 2301 | F32: =E32/D32 -> 575.25
A33: BRUCLT | B33: =MID(A33,4,3) -> CLT | C33: BONLINE | D33: 2 | E33: 1930 | F33: =E33/D33 -> 965
A34: BRUCMH | B34: =MID(A34,4,3) -> CMH | C34: BONLINE | D34: 1 | E34: 467 | F34: =E34/D34 -> 467
... A175: BRUYYZ | B175: =MID(A175,4,3) -> YYZ | C175: BONLINE | D175: 187 | E175: 88543 | F175: =E175/D175 -> 473.49198
A176: BRUZRH | B176: =MID(A176,4,3) -> ZRH | C176: BONLINE | D176: 1 | E176: 1255

Sheet Old Cost Tables
D1: DEP | E1: BH | F1: FH | G1: ASM(¢) | H1: PB | I1: CRS FEES | J1: PHF | K1: Comm & Credit Cars | L1: Std Burn Rate | M1: Misc Rev Per Pax | N1: Seats | O1: Hub Station Fee | P1: Out Station Fee
A2: ORD | B2: ERJ145 | C2: =B2& " " &A2 -> ERJ145 ORD | D2: 640.13184 | E2: 529.90014 | F2: 236.0589 | G2: 0.38287783 | H2: 5.2035545 | I2: 1.9454876 | J2: 1.9593159 | K2: 0.04 | L2: 375 | M2: 7.6 | N2: 50
A3: ORD | B3: ERJ140 | C3: =B3& " " &A3 -> ERJ140 ORD | D3: 605.48581 | E3: 704.08997 | F3: 256.1889 | G3: 0.38287783 | H3: 5.2035545 | I3: 1.9454876 | J3: 1.9593159 | K3: 0.04 | L3: 360 | M3: 7.6 | N3: 44
A4: ORD | B4: ERJ135 | C4: =B4& " " &A4 -> ERJ135 ORD | D4: 541.76103 | E4: 702.87033 | F4: 246.1239 | G4: 0.38287783 | H4: 5.2035545 | I4: 1.9454876 | J4: 1.9593159 | K4: 0.04 | L4: 360 | M4: 7.6 | N4: 37
A5: ORD | B5: CRJ700 | C5: =B5& " " &A5 -> CRJ700 ORD | D5: 776.12694 | E5: 940.83991 | F5: 306.9555 | G5: 0.38287783 | H5: 5.2035545 | I5: 1.9454876 | J5: 1.9593159 | K5: 0.04 | L5: 455 | M5: 7.6 | N5: 63
A6: DFW | B6: ERJ145 | C6: =B6& " " &A6 -> ERJ145 DFW | D6: 591.37273 | E6: 704.08997 | F6: 256.1889 | G6: 0.38287783 | H6: 5.2035545 | I6: 1.9454876 | J6: 1.9593159 | K6: 0.04 | L6: 375 | M6: 7.6 | N6: 50
A7: DFW | B7: ERJ140 | C7: =B7& " " &A7 -> ERJ140 DFW | D7: 527.64795 | E7: 702.87033 | F7: 246.1239 | G7: 0.38287783 | H7: 5.2035545 | I7: 1.9454876 | J7: 1.9593159 | K7: 0.04 | L7: 360 | M7: 7.6 | N7: 44
A8: DFW | B8: ERJ135 | C8: =B8& " " &A8 -> ERJ135 DFW | D8: 626.01876 | E8: 529.90014 | F8: 236.0589 | G8: 0.38287783 | H8: 5.2035545 | I8: 1.9454876 | J8: 1.9593159 | K8: 0.04 | L8: 360 | M8: 7.6 | N8: 37
A9: DFW | B9: CRJ700 | C9: =B9& " " &A9 -> CRJ700 DFW | D9: 762.01386 | E9: 940.83991 | F9: 306.9555 | G9: 0.38287783 | H9: 5.2035545 | I9: 1.9454876 | J9: 1.9593159 | K9: 0.04 | L9: 455 | M9: 7.6 | N9: 63
A10: DFW | B10: ATR | C10: =B10& " " &A10 -> ATR DFW | D10: 954.49045 | E10: 314.84085 | F10: 585.90452 | G10: 0.004701065 | H10: 5.0363966 | I10: 1.9010277 | J10: 1.8537314 | K10: 0.04 | L10: 195 | M10: 7.6 | N10: 66
A11: LAX | B11: EMB145 | C11: =B11& " " &A11 -> EMB145 LAX | D11: 591.37273 | E11: 704.08997 | F11: 256.1889 | G11: 0.38287783 | H11: 5.2035545 | I11: 1.9454876 | J11: 1.9593159 | K11: 0.04 | L11: 375 | M11: 7.6 | N11: 50
A12: LAX | B12: EMB140 | C12: =B12& " " &A12 -> EMB140 LAX | D12: 527.64795 | E12: 702.87033 | F12: 246.1239 | G12: 0.38287783 | H12: 5.2035545 | I12: 1.9454876 | J12: 1.9593159 | K12: 0.04 | L12: 360 | M12: 7.6 | N12: 44
A13: LAX | B13: CRJ700 | C13: =B13& " " &A13 -> CRJ700 LAX | D13: 762.01386 | E13: 940.83991 | F13: 306.9555 | G13: 0.38287783 | H13: 5.2035545 | I13: 1.9454876 | J13: 1.9593159 | K13: 0.04 | L13: 455 | M13: 7.6 | N13: 63
... A24: SJU | B24: ATR | C24: =B24& " " &A24 -> ATR SJU | D24: 955.69906 | E24: 314.84085 | F24: 585.90452 | G24: 0.004701065 | H24: 5.0363966 | I24: 1.9010277 | J24: 1.8537314 | K24: 0.04 | L24: 195 | M24: 7.6 | N24: 64

Sheet Profit
A2: Market: | B2: ='Summary FCST'!B1 -> Chicago (ORD) to XXX
A3: Aircraft | B3: Jet
A4: AUDNC Proxy | B4: DFW GRK
A6: Number of Seats | B6: ='Summary FCST'!D30 -> 50 | D6: Annual ASMs | E6: =B8*B11 -> 28981000
A7: Mileage | B7: ='Summary FCST'!D28 -> 794 | D7: Annual Deps | E7: =B9*365 -> 730
A8: ASMs per Flight | B8: =B6*B7 -> 39700 | D8: Annual Flight Hours | E8: =B10*B11 -> 1435.6667
A9: Daily Deps | B9: ='Summary FCST'!D29/365 -> 2 | D9: Annual Block Hours | E9: =B12*B11 -> 1703.3333
A10: Flight Hours per Dep | B10: =B12-(22/60) -> 1.9666667 | D10: Annual Onboard Pax | E10: =B16+B20 -> 21083.173
A11: Annual Deps | B11: =B9*365 -> 730 | D11: Annual RPMs | E11: =(B20+B16)*B7 -> 16740039
A12: Block per Dep | B12: =(135+145)/2/60 -> 2.3333333 | D12: Annual LF | E12: =E11/E6 -> 0.57762117
A15: Revenues
A16: Local Pax | B16: ='Summary FCST'!AC7*365*2 -> 11805.892 | D16: Local Yield | E16: =B17/B7 -> 0.19720276
A17: Local Avg Fare | B17: ='Summary FCST'!AI7 -> 156.57899 | D17: Connect Yield | E17: =B21/$B$7 -> 0.10977339
A18: Local Revenues | B18: =B17*B16 -> 1848554.6 | D18: On Board Yield | E18: =B24/E10/B7 -> 0.158731
A20: Connect Pax | B20: =('Summary FCST'!AC29+'Summary FCST'!AC31)*365*2 -> 9277.2811
A21: Connect Avg Fare | B21: ='Summary FCST'!AO25/'Summary FCST'!AC25 -> 87.160071
A22: Connect Revenues | B22: =B21*B20 -> 808608.47
A24: On Board Revenues | B24: =B18+B22 -> 2657163.1
A26: Upline/Downline Rev | B26: =('Summary FCST'!AQ25+'Summary FCST'!AQ28)*365*2 -> 651995.44
A27: Total Revenues | B27: =SUM(B24:B26) -> 3309158.6
A29: Variable P/(L)
A30: Crew | B30: 552205.01
A31: Maintenance | B31: 599695.95
A32: Passenger Related | B32: 112429.51
A33: Fuel | B33: 1277500
A34: Stations | B34: 681710.5
A35: Total Variable Expenses | B35: =SUM(B30:B34) -> 3223541
A37: Fully Allocated P/(L)
A38: Crew | B38: 101454.99
A39: Maintenance | B39: 80220.532
A40: Stations | B40: 208050
A41: Ownership | B41: 654400
A42: Admin | B42: 120902.87
A43: Total Fixed Expenses | B43: =SUM(B38:B42) -> 1165028.4
A45: Total Expenses | B45: =B43+B35 -> 4388569.4
A47: FAE Profit / (Loss) | B47: =B24-B45 -> -1731406.2 | D47: VAE Profit / (Loss) | E47: =B24-B35 -> -566377.85
A48: FAE Margin | B48: =B47/B45 -> -0.39452635 | D48: VAE Margin | E48: =E47/B35 -> -0.17570053
A50: FAUDNC Profit / (Loss) | B50: =(B24+(B26*0.1)-B45) -> -1666206.7 | D50: VAUDNC Profit / (Loss) | E50: =(B24+(B26*0.1)-B35) -> -501178.3
A51: FAUDNC Margin | B51: =B50/B45 -> -0.37966967 | D51: VAUDNC Margin | E51: =E50/B35 -> -0.15547446
A53: CASM | B53: =B45/E6 -> 0.15142919
